BEGIN:VCALENDAR
PRODID:-//hacksw/handcal//NONSGML v1.0//EN
VERSION:2.0
METHOD:PUBLISH
BEGIN:VEVENT
UID:69eb43b72602a
DTSTART:20160129T190000Z
DTSTAMP:20260424T101935Z
LOCATION:DIE FABRIK\, Mittlerer Hasenpfad 5\, 60598 Frankfurt
SUMMARY:FRANKFURTER MOLOTOW SLAM SHOW
DESCRIPTION:Bühne\nhttps://www.die-fabrik-frankfurt.de/programm#92
DTEND:20160129T190002Z
END:VEVENT
END:VCALENDAR
