BEGIN:VCALENDAR
PRODID:-//hacksw/handcal//NONSGML v1.0//EN
VERSION:2.0
METHOD:PUBLISH
BEGIN:VEVENT
UID:69e94b7621fef
DTSTART:20160629T180000Z
DTSTAMP:20260422T222806Z
LOCATION:DIE FABRIK\, Mittlerer Hasenpfad 5\, 60598 Frankfurt
SUMMARY:FRAUEN.LIEBE.LEBEN...
DESCRIPTION:Musik\nhttps://www.die-fabrik-frankfurt.de/programm#185
DTEND:20160629T180002Z
END:VEVENT
END:VCALENDAR
