BEGIN:VCALENDAR
PRODID:-//hacksw/handcal//NONSGML v1.0//EN
VERSION:2.0
METHOD:PUBLISH
BEGIN:VEVENT
UID:69eb9d642b780
DTSTART:20160622T180000Z
DTSTAMP:20260424T164212Z
LOCATION:DIE FABRIK\, Mittlerer Hasenpfad 5\, 60598 Frankfurt
SUMMARY:JAN FELIX MAY & BAND
DESCRIPTION:Musik\nhttps://www.die-fabrik-frankfurt.de/programm#181
DTEND:20160622T180002Z
END:VEVENT
END:VCALENDAR
