BEGIN:VCALENDAR
PRODID:-//hacksw/handcal//NONSGML v1.0//EN
VERSION:2.0
METHOD:PUBLISH
BEGIN:VEVENT
UID:69e8a591449ea
DTSTART:20260401T180000Z
DTSTAMP:20260422T104017Z
LOCATION:DIE FABRIK\, Mittlerer Hasenpfad 5\, 60598 Frankfurt
SUMMARY:Der Temporäre Elektronische Salon feat. Ulf Kleiner\, Matthi
 as Vogt
DESCRIPTION:Konzert\nhttps://www.die-fabrik-frankfurt.de/programm#164
 7
DTEND:20260401T180002Z
END:VEVENT
END:VCALENDAR
